BEGIN:VCALENDAR
VERSION:2.0
PRODID:-//Surrey Teachers' Association - ECPv6.15.20//NONSGML v1.0//EN
CALSCALE:GREGORIAN
METHOD:PUBLISH
X-WR-CALNAME:Surrey Teachers' Association
X-ORIGINAL-URL:https://www.surreyteachers.org
X-WR-CALDESC:Events for Surrey Teachers' Association
REFRESH-INTERVAL;VALUE=DURATION:PT1H
X-Robots-Tag:noindex
X-PUBLISHED-TTL:PT1H
BEGIN:VTIMEZONE
TZID:America/Vancouver
BEGIN:DAYLIGHT
TZOFFSETFROM:-0800
TZOFFSETTO:-0700
TZNAME:PDT
DTSTART:20250309T100000
END:DAYLIGHT
BEGIN:STANDARD
TZOFFSETFROM:-0700
TZOFFSETTO:-0800
TZNAME:PST
DTSTART:20251102T090000
END:STANDARD
BEGIN:DAYLIGHT
TZOFFSETFROM:-0800
TZOFFSETTO:-0700
TZNAME:PDT
DTSTART:20260308T100000
END:DAYLIGHT
BEGIN:STANDARD
TZOFFSETFROM:-0700
TZOFFSETTO:-0800
TZNAME:PST
DTSTART:20261101T090000
END:STANDARD
BEGIN:DAYLIGHT
TZOFFSETFROM:-0800
TZOFFSETTO:-0700
TZNAME:PDT
DTSTART:20270314T100000
END:DAYLIGHT
BEGIN:STANDARD
TZOFFSETFROM:-0700
TZOFFSETTO:-0800
TZNAME:PST
DTSTART:20271107T090000
END:STANDARD
END:VTIMEZONE
BEGIN:VEVENT
DTSTART;TZID=America/Vancouver:20260422T160000
DTEND;TZID=America/Vancouver:20260422T180000
DTSTAMP:20260422T030036
CREATED:20250916T165651Z
LAST-MODIFIED:20260422T095525Z
UID:10001979-1776873600-1776880800@www.surreyteachers.org
SUMMARY:Ad Hoc Elementary Music Teacher Committee
DESCRIPTION:
URL:https://www.surreyteachers.org/calendar/ad-hoc-elementary-music-teacher-committee-6/
LOCATION:Katzie Elementary; Zoom2
END:VEVENT
BEGIN:VEVENT
DTSTART;TZID=America/Vancouver:20260422T160000
DTEND;TZID=America/Vancouver:20260422T180000
DTSTAMP:20260422T030036
CREATED:20260128T235713Z
LAST-MODIFIED:20260422T095524Z
UID:10002059-1776873600-1776880800@www.surreyteachers.org
SUMMARY:Ad Hoc Elementary Music Teacher Committee
DESCRIPTION:
URL:https://www.surreyteachers.org/calendar/ad-hoc-elementary-music-teacher-committee-11/
LOCATION:Zoom2
END:VEVENT
BEGIN:VEVENT
DTSTART;TZID=America/Vancouver:20260422T160000
DTEND;TZID=America/Vancouver:20260422T180000
DTSTAMP:20260422T030036
CREATED:20260410T162534Z
LAST-MODIFIED:20260422T095523Z
UID:10002088-1776873600-1776880800@www.surreyteachers.org
SUMMARY:Indigenous Education Committee
DESCRIPTION:
URL:https://www.surreyteachers.org/calendar/indigenous-education-committee-5/
LOCATION:Zoom1
END:VEVENT
BEGIN:VEVENT
DTSTART;TZID=America/Vancouver:20260422T160000
DTEND;TZID=America/Vancouver:20260422T180000
DTSTAMP:20260422T030036
CREATED:20260414T185653Z
LAST-MODIFIED:20260422T095522Z
UID:10002093-1776873600-1776880800@www.surreyteachers.org
SUMMARY:Young Workers Committee
DESCRIPTION:
URL:https://www.surreyteachers.org/calendar/young-workers-committee-4/
LOCATION:Zoom4
END:VEVENT
END:VCALENDAR